BEGIN:VCALENDAR
VERSION:2.0
PRODID:-//National Association of Publicly Funded Truck Driving Schools - ECPv6.15.20//NONSGML v1.0//EN
CALSCALE:GREGORIAN
METHOD:PUBLISH
X-WR-CALNAME:National Association of Publicly Funded Truck Driving Schools
X-ORIGINAL-URL:https://napftds.org
X-WR-CALDESC:Events for National Association of Publicly Funded Truck Driving Schools
REFRESH-INTERVAL;VALUE=DURATION:PT1H
X-Robots-Tag:noindex
X-PUBLISHED-TTL:PT1H
BEGIN:VTIMEZONE
TZID:America/Chicago
BEGIN:DAYLIGHT
TZOFFSETFROM:-0600
TZOFFSETTO:-0500
TZNAME:CDT
DTSTART:20210314T080000
END:DAYLIGHT
BEGIN:STANDARD
TZOFFSETFROM:-0500
TZOFFSETTO:-0600
TZNAME:CST
DTSTART:20211107T070000
END:STANDARD
BEGIN:DAYLIGHT
TZOFFSETFROM:-0600
TZOFFSETTO:-0500
TZNAME:CDT
DTSTART:20220313T080000
END:DAYLIGHT
BEGIN:STANDARD
TZOFFSETFROM:-0500
TZOFFSETTO:-0600
TZNAME:CST
DTSTART:20221106T070000
END:STANDARD
BEGIN:DAYLIGHT
TZOFFSETFROM:-0600
TZOFFSETTO:-0500
TZNAME:CDT
DTSTART:20230312T080000
END:DAYLIGHT
BEGIN:STANDARD
TZOFFSETFROM:-0500
TZOFFSETTO:-0600
TZNAME:CST
DTSTART:20231105T070000
END:STANDARD
BEGIN:DAYLIGHT
TZOFFSETFROM:-0600
TZOFFSETTO:-0500
TZNAME:CDT
DTSTART:20240310T080000
END:DAYLIGHT
BEGIN:STANDARD
TZOFFSETFROM:-0500
TZOFFSETTO:-0600
TZNAME:CST
DTSTART:20241103T070000
END:STANDARD
END:VTIMEZONE
BEGIN:VEVENT
DTSTART;TZID=America/Chicago:20230125T000000
DTEND;TZID=America/Chicago:20230127T235959
DTSTAMP:20260421T202139
CREATED:20221129T201240Z
LAST-MODIFIED:20221216T213124Z
UID:407-1674604800-1674863999@napftds.org
SUMMARY:Region 1 & 2 Meeting
DESCRIPTION:For Region 1 & 2\, will be January 25-27\, 2023 date.  Pima Community College in Tucson\, Arizona is planning on a reception dinner on Wednesday\, January 25; with a full day of presentations and networking Thursday\, January 26; followed by a half day of the same on Friday\, January 27.  \n\n\n\nPima Community College is hoping that everyone will take a ‘warm’ break and join us.  Also\, the Tucson Gem and Mineral Show time which is the world’s largest gem show.  Hope to see you there! \n\n\n\nReg-1-2-DRAFT-Agenda-2022.docxDownload\n\n\n\nReg-1-2-DRAFT-registration-2022.docxDownload\n\n\n\n\nBook Hotel\n\n\n\n\n\n\n\n\n\n\n\n\n\n\n\n\n\n\n\n\n	Notice: JavaScript is required for this content.
URL:https://napftds.org/event/region-1-2-meeting/
LOCATION:Pima Community College\, 6680 South Country Club Road\, MS 105\, Tuscon\, Arizona\, 85709\, United States
CATEGORIES:Region 1,Region 2,Regionals
ORGANIZER;CN="Missy Blair":MAILTO:mlblair@pima.edu
END:VEVENT
BEGIN:VEVENT
DTSTART;TZID=America/Chicago:20220828T000000
DTEND;TZID=America/Chicago:20220830T235959
DTSTAMP:20260421T202139
CREATED:20220811T215218Z
LAST-MODIFIED:20221216T211241Z
UID:236-1661644800-1661903999@napftds.org
SUMMARY:Region 6 Meeting
DESCRIPTION:Hosted by Tallahassee Community CollegeCenter for Workforce Development BallroomTallahassee\, Florida 32301
URL:https://napftds.org/event/region-6-meeting/
LOCATION:Tallahassee Community College\, Center for Workforce Development Ballroom\, Tallahassee\, Florida\, 32301\, United States
CATEGORIES:Region 6,Regionals
ORGANIZER;CN="Jessica Griffin":MAILTO:griffinj@tcc.fl.edu
END:VEVENT
BEGIN:VEVENT
DTSTART;TZID=America/Chicago:20220810T090000
DTEND;TZID=America/Chicago:20220810T100000
DTSTAMP:20260421T202139
CREATED:20220729T200133Z
LAST-MODIFIED:20230614T165650Z
UID:34-1660122000-1660125600@napftds.org
SUMMARY:August Board Conference Call
DESCRIPTION:Monthly on the Second Wednesday
URL:https://napftds.org/event/board-conference-call/
END:VEVENT
END:VCALENDAR