BEGIN:VCALENDAR
VERSION:2.0
PRODID:-//National Association of Publicly Funded Truck Driving Schools - ECPv6.15.20//NONSGML v1.0//EN
CALSCALE:GREGORIAN
METHOD:PUBLISH
X-ORIGINAL-URL:https://napftds.org
X-WR-CALDESC:Events for National Association of Publicly Funded Truck Driving Schools
REFRESH-INTERVAL;VALUE=DURATION:PT1H
X-Robots-Tag:noindex
X-PUBLISHED-TTL:PT1H
BEGIN:VTIMEZONE
TZID:America/Chicago
BEGIN:DAYLIGHT
TZOFFSETFROM:-0600
TZOFFSETTO:-0500
TZNAME:CDT
DTSTART:20240310T080000
END:DAYLIGHT
BEGIN:STANDARD
TZOFFSETFROM:-0500
TZOFFSETTO:-0600
TZNAME:CST
DTSTART:20241103T070000
END:STANDARD
BEGIN:DAYLIGHT
TZOFFSETFROM:-0600
TZOFFSETTO:-0500
TZNAME:CDT
DTSTART:20250309T080000
END:DAYLIGHT
BEGIN:STANDARD
TZOFFSETFROM:-0500
TZOFFSETTO:-0600
TZNAME:CST
DTSTART:20251102T070000
END:STANDARD
BEGIN:DAYLIGHT
TZOFFSETFROM:-0600
TZOFFSETTO:-0500
TZNAME:CDT
DTSTART:20260308T080000
END:DAYLIGHT
BEGIN:STANDARD
TZOFFSETFROM:-0500
TZOFFSETTO:-0600
TZNAME:CST
DTSTART:20261101T070000
END:STANDARD
BEGIN:DAYLIGHT
TZOFFSETFROM:-0600
TZOFFSETTO:-0500
TZNAME:CDT
DTSTART:20270314T080000
END:DAYLIGHT
BEGIN:STANDARD
TZOFFSETFROM:-0500
TZOFFSETTO:-0600
TZNAME:CST
DTSTART:20271107T070000
END:STANDARD
END:VTIMEZONE
BEGIN:VEVENT
DTSTART;TZID=America/Chicago:20251116T080000
DTEND;TZID=America/Chicago:20251118T170000
DTSTAMP:20260421T212332
CREATED:20250618T215308Z
LAST-MODIFIED:20251030T162032Z
UID:1682-1763280000-1763485200@napftds.org
SUMMARY:Region 4\, Johnson County Community College\, Overland Park\, KS
DESCRIPTION:        ”Join us this November in Overland Park for the NAPFTDS Region 4 Meeting hosted by Johnson County Community College. Connect with other programs in the region\, see old friends\, share ideas\, and learn what’s new in the industry. You can look forward to great food\, informative sessions\, and a fun atmosphere in the heart of the Midwest.” \n\n\n\n \n\n\n\nReg 4 Nov 16-18 JCCC AgendaRDownload\n\n\n\nJCCC mapDownload\n\n\n\n\n\n\n\nDoubleTree by Hilton Kansas City-Overland Park\, 10100 College Boulevard\, Overland park\, KS 66210-1462  Cost is $145 a night and breakfast is included.  Block deadline is October 20\, 2025 \n\n\n\nLink https://group.doubletree.com/5daijh  \n\n\n\n\n\n\n\n	Notice: JavaScript is required for this content.
URL:https://napftds.org/event/region-4-johnson-county-community-college-overland-park-ks/
LOCATION:Utah
CATEGORIES:Region 4,Regionals
END:VEVENT
BEGIN:VEVENT
DTSTART;TZID=America/Chicago:20260128T080000
DTEND;TZID=America/Chicago:20260130T080000
DTSTAMP:20260421T212332
CREATED:20250618T180843Z
LAST-MODIFIED:20251210T184109Z
UID:1692-1769587200-1769760000@napftds.org
SUMMARY:Region 1 & 2 Pima College\, Tucson\, AZ
DESCRIPTION:Region 1 & 2 is planning on a reception on Wednesday\, January 28 at 5 p.m.; with a full day of presentations and networking Thursday\, January 29; followed by a half day of the same on Friday\, January 30.  Please see a draft of the agenda in this Learning Curve. \n\n\n\n    Pima Community College is hoping that everyone will take a ‘warm’ break and join us.  Also\, the Tucson Gem and Mineral Show\, which is the world’s largest gem show\, is happening during these meetings.  Hope to see you there!  \n\n\n\nReg 1-2  Agenda 2026Download\n\n\n\nHilton Garden Inn – Tucson Airport – Your website is live and ready to share! – DEADLINE January 9 Rate is $229/night.  It’s important for guests to reserve their rooms before this date\, as all room will be released due to the high demand of a showCongratulations! Your Hilton attendee website for NAPFTDS is now live and ready to share. You can view your website using the following unique link: View your attendee websiteGuest room booking – \n\n\n\nEvent attendees can now reserve rooms by using the attendee website link above. As you have already reserved a room block\, all attendees will benefit from your exclusive rate when booking a room.\n\n\n\n\n\n\n\n\n\n\n\n	Notice: JavaScript is required for this content.
URL:https://napftds.org/event/region-1-2-pima-college-tucson-az-2/
LOCATION:Utah
CATEGORIES:Region 1,Region 2,Regionals
END:VEVENT
BEGIN:VEVENT
DTSTART;TZID=America/Chicago:20260412T080000
DTEND;TZID=America/Chicago:20260415T170000
DTSTAMP:20260421T212332
CREATED:20251024T154200Z
LAST-MODIFIED:20260326T014342Z
UID:1714-1775980800-1776272400@napftds.org
SUMMARY:2026 36th Annual NAPFTDS Conference\, Black Desert Resort\, Ivins\, Utah
DESCRIPTION:2026 36th Annual Conference Agenda\, Ivins\, Utah \n\n\n\n2026_Agenda_Ivins UT 2Download\n\n\n\nBlack Desert Resort\, Ivins\, Utah. Immerse yourself in a one-of-a-kind destination nestled amongst the ancient lava fields and vibrant vermillion cliffs of Greater Zion. Where the breathtaking intersection of the Colorado Plateau\, Mojave Desert\, and Great Basin combines with unparalleled hospitality and amenities. Spanning 600 acres of scenic desert landscape\, our newly built luxury resort offers nearly 800 guestrooms and luxury suites. Indulge in diverse dining options\, year-round outdoor recreation\, and world-class spa facilities. All anchored by a 19-hole Tom Weiskopf signature championship golf course\, Black Desert Resort provides the ultimate escape from everyday life. \n\n\n\nRoom rate is $219.00 per night\, the resort fee has been waived. DEADLINE:  Friday\, March 27\, 2026 \n\n\n\nTo help make your stay as smooth as possible\, please click the link below  so attendees can book their accommodations directly through our website: Click here to book at Black Desert Resort \n\n\n\nAlternatively\, guests are welcome to call our reservations team at 855-241-6781 to confirm their stay. \n\n\n\nQuick tip: When selecting travel dates\, make sure to choose your departure date\, even if it appears crossed out. Please note: A one-night deposit will be collected at the time of booking. Guests may cancel up to 30 days prior to arrival without penalty. \n\n\n\n\n\n\n\n\n\n	Notice: JavaScript is required for this content.
URL:https://napftds.org/event/2026-36th-annual-napftds-conference-black-desert-resort-ivins-utah/
LOCATION:Black Desert Resort\, 1500 E. Black Desert Dr.\, Ivins\, Utah
CATEGORIES:Annual Conference
END:VEVENT
BEGIN:VEVENT
DTSTART;TZID=America/Chicago:20260913T080000
DTEND;TZID=America/Chicago:20260918T170000
DTSTAMP:20260421T212332
CREATED:20251015T145958Z
LAST-MODIFIED:20251015T150001Z
UID:1935-1789286400-1789750800@napftds.org
SUMMARY:CVTA Fall Meeting - Martin Garsee attends
DESCRIPTION:
URL:https://napftds.org/event/cvta-fall-meeting-martin-garsee-attends/
LOCATION:Utah
END:VEVENT
BEGIN:VEVENT
DTSTART;TZID=America/Chicago:20261011T080000
DTEND;TZID=America/Chicago:20261013T170000
DTSTAMP:20260421T212332
CREATED:20251015T150336Z
LAST-MODIFIED:20260326T211920Z
UID:1936-1791705600-1791910800@napftds.org
SUMMARY:Region 1 & 2\, East Wyoming College-Douglas\, WY
DESCRIPTION:
URL:https://napftds.org/event/region-1-2-east-wyoming-college-douglas-campus-torrington-wy/
LOCATION:Utah
END:VEVENT
END:VCALENDAR