BEGIN:VCALENDAR
VERSION:2.0
PRODID:-//National Association of Publicly Funded Truck Driving Schools - ECPv6.15.17.1//NONSGML v1.0//EN
CALSCALE:GREGORIAN
METHOD:PUBLISH
X-ORIGINAL-URL:https://napftds.org
X-WR-CALDESC:Events for National Association of Publicly Funded Truck Driving Schools
REFRESH-INTERVAL;VALUE=DURATION:PT1H
X-Robots-Tag:noindex
X-PUBLISHED-TTL:PT1H
BEGIN:VTIMEZONE
TZID:America/Chicago
BEGIN:DAYLIGHT
TZOFFSETFROM:-0600
TZOFFSETTO:-0500
TZNAME:CDT
DTSTART:20250309T080000
END:DAYLIGHT
BEGIN:STANDARD
TZOFFSETFROM:-0500
TZOFFSETTO:-0600
TZNAME:CST
DTSTART:20251102T070000
END:STANDARD
BEGIN:DAYLIGHT
TZOFFSETFROM:-0600
TZOFFSETTO:-0500
TZNAME:CDT
DTSTART:20260308T080000
END:DAYLIGHT
BEGIN:STANDARD
TZOFFSETFROM:-0500
TZOFFSETTO:-0600
TZNAME:CST
DTSTART:20261101T070000
END:STANDARD
BEGIN:DAYLIGHT
TZOFFSETFROM:-0600
TZOFFSETTO:-0500
TZNAME:CDT
DTSTART:20270314T080000
END:DAYLIGHT
BEGIN:STANDARD
TZOFFSETFROM:-0500
TZOFFSETTO:-0600
TZNAME:CST
DTSTART:20271107T070000
END:STANDARD
END:VTIMEZONE
BEGIN:VEVENT
DTSTART;TZID=America/Chicago:20260128T080000
DTEND;TZID=America/Chicago:20260130T080000
DTSTAMP:20260421T135541
CREATED:20250618T180843Z
LAST-MODIFIED:20251210T184109Z
UID:1692-1769587200-1769760000@napftds.org
SUMMARY:Region 1 & 2 Pima College\, Tucson\, AZ
DESCRIPTION:Region 1 & 2 is planning on a reception on Wednesday\, January 28 at 5 p.m.; with a full day of presentations and networking Thursday\, January 29; followed by a half day of the same on Friday\, January 30.  Please see a draft of the agenda in this Learning Curve. \n\n\n\n    Pima Community College is hoping that everyone will take a ‘warm’ break and join us.  Also\, the Tucson Gem and Mineral Show\, which is the world’s largest gem show\, is happening during these meetings.  Hope to see you there!  \n\n\n\nReg 1-2  Agenda 2026Download\n\n\n\nHilton Garden Inn – Tucson Airport – Your website is live and ready to share! – DEADLINE January 9 Rate is $229/night.  It’s important for guests to reserve their rooms before this date\, as all room will be released due to the high demand of a showCongratulations! Your Hilton attendee website for NAPFTDS is now live and ready to share. You can view your website using the following unique link: View your attendee websiteGuest room booking – \n\n\n\nEvent attendees can now reserve rooms by using the attendee website link above. As you have already reserved a room block\, all attendees will benefit from your exclusive rate when booking a room.\n\n\n\n\n\n\n\n\n\n\n\n	Notice: JavaScript is required for this content.
URL:https://napftds.org/event/region-1-2-pima-college-tucson-az-2/
LOCATION:Utah
CATEGORIES:Region 1,Region 2,Regionals
END:VEVENT
END:VCALENDAR