BEGIN:VCALENDAR
VERSION:2.0
PRODID:-//National Association of Publicly Funded Truck Driving Schools - ECPv6.15.20//NONSGML v1.0//EN
CALSCALE:GREGORIAN
METHOD:PUBLISH
X-WR-CALNAME:National Association of Publicly Funded Truck Driving Schools
X-ORIGINAL-URL:https://napftds.org
X-WR-CALDESC:Events for National Association of Publicly Funded Truck Driving Schools
REFRESH-INTERVAL;VALUE=DURATION:PT1H
X-Robots-Tag:noindex
X-PUBLISHED-TTL:PT1H
BEGIN:VTIMEZONE
TZID:America/Chicago
BEGIN:DAYLIGHT
TZOFFSETFROM:-0600
TZOFFSETTO:-0500
TZNAME:CDT
DTSTART:20240310T080000
END:DAYLIGHT
BEGIN:STANDARD
TZOFFSETFROM:-0500
TZOFFSETTO:-0600
TZNAME:CST
DTSTART:20241103T070000
END:STANDARD
BEGIN:DAYLIGHT
TZOFFSETFROM:-0600
TZOFFSETTO:-0500
TZNAME:CDT
DTSTART:20250309T080000
END:DAYLIGHT
BEGIN:STANDARD
TZOFFSETFROM:-0500
TZOFFSETTO:-0600
TZNAME:CST
DTSTART:20251102T070000
END:STANDARD
BEGIN:DAYLIGHT
TZOFFSETFROM:-0600
TZOFFSETTO:-0500
TZNAME:CDT
DTSTART:20260308T080000
END:DAYLIGHT
BEGIN:STANDARD
TZOFFSETFROM:-0500
TZOFFSETTO:-0600
TZNAME:CST
DTSTART:20261101T070000
END:STANDARD
END:VTIMEZONE
BEGIN:VEVENT
DTSTART;TZID=America/Chicago:20250907T080000
DTEND;TZID=America/Chicago:20250909T080000
DTSTAMP:20260421T194022
CREATED:20250618T180604Z
LAST-MODIFIED:20250813T165354Z
UID:1691-1757232000-1757404800@napftds.org
SUMMARY:Region 3 & 5\, Metropolitan Community College\, Omaha\, NE
DESCRIPTION:   Metropolitan Community College (MCC) in Omaha\, Nebraska invites you to the Region 3 & 5 Annual Conference September 7th – 9th. \n\n\n\n   We will start off taking some time catching up with old friends and making new friends with a social hour or two Sunday night September 7th at the Courtyard Omaha/LaVista with hors d’oeuvres and a cash bar from 6 pm to 8 pm. \n\n\n\n   On Monday morning\, MCC will provide transportation from the Courtyard Hotel to our Fort Omaha Campus where we will have a light\, but delicious breakfast at our state-of-the-art Institute for Culinary Arts. We will continue after breakfast with a presentation from one of MCC’s finest instructors on what other skills our students need to be successful in the transportation business besides driving skills. Bellevue University’s Director of the Military Veteran Services Center\, JR Richardson will visit with us about some of the struggles our brave veterans face when hitting the road. He will be giving us ideas on how to better prepare them. He will be bringing with him a nutrition specialist that will give us ideas on how to keep our students healthy once they begin their careers. The Nebraska State Patrol Carrier Enforcement Division will be lending us their own Sgt Matt Guzman who has a fairly unique perspective from the state side of things having served over 10 years with the division. He currently ensures the data quality of inspections and crash records involving commercial motor vehicles and he receives ALL of the states DataQ’s so he is will versed on the things that happen in Nebraska and fields questions from Troopers and people in the industry on current guidance from FMCSA and CVSA. You will also get to meet and hear from Nebraska’s own Kent Grishom\, President of the Nebraska Trucking Association. \n\n\n\n   We will wrap things up on Monday with a quick tour of MCC’s Applied Technology Center which houses the CDL Program. After a short bus trip back to the hotel\, get ready for something a little bit different. We will be dining at the Smash Park! There will be a laid-back dinner with an impressive taco bar and a lot of fun with axe throwing and darts. \n\n\n\n   On Tuesday\, we will be transported to Werner Enterprises for a presentation from the ATA and a viewing of their Workforce Heros truck and trailer. \n\n\n\nSee you in September!!! \n\n\n\nNEW Reg 3-5 NAPFTDS Agenda 8-11-25Download\n\n\n\nLODGING DEADLINE EXTENDED TO AUGUST 25! \n\n\n\nLodging: Courtyard Omaha/LaVista\, 12560 Westport Pkwy\, LaVista\, NE 68128 $105/night \n\n\n\nLink to Hotel:  Book your group rate for NAPFTDS Conference 2025 Group code:  NAP \n\n\n\nIf prefer to call hotel\, please use 402-339-4900 and reference the NAP code \n\n\n\n\n\n\n\n\n\n\n\n	Notice: JavaScript is required for this content.
URL:https://napftds.org/event/region-3-5-metropolitan-community-college-werner-enterprises-omaha-ne-2/
LOCATION:Utah
CATEGORIES:Region 3,Region 5,Regionals
END:VEVENT
BEGIN:VEVENT
DTSTART;TZID=America/Chicago:20250918T080000
DTEND;TZID=America/Chicago:20250919T170000
DTSTAMP:20260421T194022
CREATED:20250618T215538Z
LAST-MODIFIED:20250813T173453Z
UID:1684-1758182400-1758301200@napftds.org
SUMMARY:Region 7\, Cecil College\, North East\, MD
DESCRIPTION:   Cecil College is proud to host the Region 7 NAPFTDS Conference through its renowned Truck Driver Training program. As an inclusive\, open-access institution\, Cecil College is dedicated to academic excellence and committed to serving a diverse student population. The College offers a supportive learning environment where students are empowered to succeed academically\, transfer to four-year institutions\, and enter the workforce with confidence. Beyond academics\, Cecil College enriches lives through lifelong learning\, the arts\, and strong community engagement. The upcoming conference promises to deliver valuable insights for trucking instructors\, focusing on elevating teaching skills and addressing evolving student needs. Attendees will benefit from sessions led by industry experts on topics such as adapting to changing learning styles\, supporting recently incarcerated students\, and enhancing programs through financial literacy education. The meeting will take place on: \n\n\n\n             📅 September 18\, 2025 | 8:30 AM – 6:00 PM             📅 September 19\, 2025 | 8:30 AM – 12:00 PM             📍 Cecil College\, 1 Seahawk Dr. North East\, MD 21901 \n\n\n\nAs an inclusive\, open-access institution committed to academic excellence and serving a diverse student population\, Cecil College is excited to welcome trucking educators and industry professionals for two days of collaboration\, insight\, and professional development. \n\n\n\nThis year’s conference will focus on elevating instructional practices\, with sessions designed to help educators adapt to changing learning styles\, support formerly incarcerated students\, and incorporate financial literacy education into CDL programs. \n\n\n\nReg 7 Agenda Cecil CollegeDownload\n\n\n\nNAPFTDS map region 7 conferenceDownload\n\n\n\n\n\nComfort Inn & Suites\, 1 Center Driver\, North East MD 21901 410-656-8807 (breakfast included) Check-in Wed\, Sept 17 3 p.m. and Check-out Sept 19 11:00 a.m. Group name Region 7 Conference NAPFTDS Group Number KT39J4 DEADLINE for rooms to be booked BEFORE Wednesday\, September 3\, 2025. Price is $144.95  Hotel Link for Region 7  https://www.choicehotels.com/reservations/groups/KT39J4 \n\n\n\n\n\n\n\n\n\n	Notice: JavaScript is required for this content.
URL:https://napftds.org/event/region-7-cecil-college-elkton-md/
LOCATION:Utah
CATEGORIES:Region 7,Regionals
END:VEVENT
END:VCALENDAR