BEGIN:VCALENDAR
VERSION:2.0
PRODID:-//National Association of Publicly Funded Truck Driving Schools - ECPv6.15.20//NONSGML v1.0//EN
CALSCALE:GREGORIAN
METHOD:PUBLISH
X-WR-CALNAME:National Association of Publicly Funded Truck Driving Schools
X-ORIGINAL-URL:https://napftds.org
X-WR-CALDESC:Events for National Association of Publicly Funded Truck Driving Schools
REFRESH-INTERVAL;VALUE=DURATION:PT1H
X-Robots-Tag:noindex
X-PUBLISHED-TTL:PT1H
BEGIN:VTIMEZONE
TZID:America/Chicago
BEGIN:DAYLIGHT
TZOFFSETFROM:-0600
TZOFFSETTO:-0500
TZNAME:CDT
DTSTART:20230312T080000
END:DAYLIGHT
BEGIN:STANDARD
TZOFFSETFROM:-0500
TZOFFSETTO:-0600
TZNAME:CST
DTSTART:20231105T070000
END:STANDARD
BEGIN:DAYLIGHT
TZOFFSETFROM:-0600
TZOFFSETTO:-0500
TZNAME:CDT
DTSTART:20240310T080000
END:DAYLIGHT
BEGIN:STANDARD
TZOFFSETFROM:-0500
TZOFFSETTO:-0600
TZNAME:CST
DTSTART:20241103T070000
END:STANDARD
BEGIN:DAYLIGHT
TZOFFSETFROM:-0600
TZOFFSETTO:-0500
TZNAME:CDT
DTSTART:20250309T080000
END:DAYLIGHT
BEGIN:STANDARD
TZOFFSETFROM:-0500
TZOFFSETTO:-0600
TZNAME:CST
DTSTART:20251102T070000
END:STANDARD
END:VTIMEZONE
BEGIN:VEVENT
DTSTART;TZID=America/Chicago:20241208T120000
DTEND;TZID=America/Chicago:20241210T120000
DTSTAMP:20260422T112609
CREATED:20240524T155827Z
LAST-MODIFIED:20241203T210838Z
UID:1185-1733659200-1733832000@napftds.org
SUMMARY:2024 Region 6 - Tallahassee State College\, Tallahassee\, FL
DESCRIPTION:Welcome\, \n\n\n\n   Tallahassee State College is excited to announce the upcoming Region 6 Meeting\, to be held in beautiful Tallahassee\, Florida opening with a small reception on Sunday\, December 8th thru Tuesday\, December 10th concluding with a half-day session. Join us for a dynamic and engaging event where we will delve into emerging technologies\, instruction enhancement\, modernization\, and much more. This meeting promises to be an insightful learning and collaborative experience\, perfect for professionals looking to stay ahead in the trucking and logistics industry. Mark your calendars and be prepared for enriching discussions and valuable networking opportunities! Stay tuned for more details and registration below. Don’t miss this chance to accelerate your career in trucking and logistics! \n\n\n\nDates: December 8-10\, 2024 \n\n\n\nHost: Tallahassee State College \n\n\n\nLodging:  Hotel Indigo Tallahassee—Collegetown \n\n\n\n826 W. Gaines St.\, \n\n\n\nTallahassee\, FL 32304 \n\n\n\n850-210-0008  phone code:  NAPFTDS Region 6 \n\n\n\nRate:  $119/night plus tax \n\n\n\nBooking link:  NAPFTDS Region 6 Dec 2024 \n\n\n\nDeadline:  Monday\, November 18\, 2024 \n\n\n\nTallahassee State College is looking forward to welcoming you to Tallahassee\, Florida this December! \n\n\n\n2024 Reg 6 Agenda 12-2-24Download\n\n\n\n	Notice: JavaScript is required for this content.
URL:https://napftds.org/event/2024-region-6-tallahassee-fl/
LOCATION:Utah
CATEGORIES:Regionals
END:VEVENT
END:VCALENDAR